BEGIN:VCALENDAR
VERSION:2.0
PRODID:-//Indigo Sky - ECPv6.15.20//NONSGML v1.0//EN
CALSCALE:GREGORIAN
METHOD:PUBLISH
X-ORIGINAL-URL:https://indigoskycasino.com
X-WR-CALDESC:Events for Indigo Sky
REFRESH-INTERVAL;VALUE=DURATION:PT1H
X-Robots-Tag:noindex
X-PUBLISHED-TTL:PT1H
BEGIN:VTIMEZONE
TZID:UTC
BEGIN:STANDARD
TZOFFSETFROM:+0000
TZOFFSETTO:+0000
TZNAME:UTC
DTSTART:20240101T000000
END:STANDARD
END:VTIMEZONE
BEGIN:VEVENT
DTSTART;TZID=UTC:20251206T210000
DTEND;TZID=UTC:20251206T210000
DTSTAMP:20260421T102503
CREATED:20250527T203608Z
LAST-MODIFIED:20251201T161516Z
UID:19614-1765054800-1765054800@indigoskycasino.com
SUMMARY:Just Sayin' — in ECHO
DESCRIPTION:Playing all the classic rock you can handle; this band will have you on your feet in no time. Just sayin’
URL:https://indigoskycasino.com/event/just-sayin/
LOCATION:Indigo Sky Casino\, 70220 East HWY 60\, Wyandotte\, OK\, 74370\, United States
CATEGORIES:Live Entertainment
END:VEVENT
END:VCALENDAR