BEGIN:VCALENDAR
VERSION:2.0
PRODID:-//Indigo Sky - ECPv6.15.20//NONSGML v1.0//EN
CALSCALE:GREGORIAN
METHOD:PUBLISH
X-WR-CALNAME:Indigo Sky
X-ORIGINAL-URL:https://indigoskycasino.com
X-WR-CALDESC:Events for Indigo Sky
REFRESH-INTERVAL;VALUE=DURATION:PT1H
X-Robots-Tag:noindex
X-PUBLISHED-TTL:PT1H
BEGIN:VTIMEZONE
TZID:UTC
BEGIN:STANDARD
TZOFFSETFROM:+0000
TZOFFSETTO:+0000
TZNAME:UTC
DTSTART:20240101T000000
END:STANDARD
END:VTIMEZONE
BEGIN:VEVENT
DTSTART;TZID=UTC:20251220T210000
DTEND;TZID=UTC:20251220T210000
DTSTAMP:20260422T114815
CREATED:20230418T153030Z
LAST-MODIFIED:20251201T185545Z
UID:18862-1766264400-1766264400@indigoskycasino.com
SUMMARY:Dino D and the D Train Band — in ECHO
DESCRIPTION:Born in Memphis\, Tennessee Dino D performs original R&B and soul two nights in a row!
URL:https://indigoskycasino.com/event/dino-d-and-d-train-2/
LOCATION:Indigo Sky Casino\, 70220 East HWY 60\, Wyandotte\, OK\, 74370\, United States
CATEGORIES:Live Entertainment
END:VEVENT
END:VCALENDAR