BEGIN:VCALENDAR
VERSION:2.0
PRODID:-//Indigo Sky - ECPv6.15.20//NONSGML v1.0//EN
CALSCALE:GREGORIAN
METHOD:PUBLISH
X-WR-CALNAME:Indigo Sky
X-ORIGINAL-URL:https://indigoskycasino.com
X-WR-CALDESC:Events for Indigo Sky
REFRESH-INTERVAL;VALUE=DURATION:PT1H
X-Robots-Tag:noindex
X-PUBLISHED-TTL:PT1H
BEGIN:VTIMEZONE
TZID:UTC
BEGIN:STANDARD
TZOFFSETFROM:+0000
TZOFFSETTO:+0000
TZNAME:UTC
DTSTART:20250101T000000
END:STANDARD
END:VTIMEZONE
BEGIN:VEVENT
DTSTART;TZID=UTC:20260131T210000
DTEND;TZID=UTC:20260131T210000
DTSTAMP:20260421T100024
CREATED:20251230T170531Z
LAST-MODIFIED:20251230T170745Z
UID:19881-1769893200-1769893200@indigoskycasino.com
SUMMARY:Nathan LaBee — in ECHO
DESCRIPTION:At only 14\, Nathan began playing guitar and learning everything he could\, by watching as many instructional videos as possible. Influenced by artists such as Angel Vivaldi\, Joe Satriani\, Jeff Loomis\, Eric Johnson\, Al Di Meola and others\, his music takes on a wide range of genres.
URL:https://indigoskycasino.com/event/nathan-labee-in-echo/
LOCATION:Indigo Sky Casino\, 70220 East HWY 60\, Wyandotte\, OK\, 74370\, United States
CATEGORIES:Live Entertainment
END:VEVENT
END:VCALENDAR