BEGIN:VCALENDAR
VERSION:2.0
PRODID:-//Indigo Sky - ECPv6.15.20//NONSGML v1.0//EN
CALSCALE:GREGORIAN
METHOD:PUBLISH
X-ORIGINAL-URL:https://indigoskycasino.com
X-WR-CALDESC:Events for Indigo Sky
REFRESH-INTERVAL;VALUE=DURATION:PT1H
X-Robots-Tag:noindex
X-PUBLISHED-TTL:PT1H
BEGIN:VTIMEZONE
TZID:UTC
BEGIN:STANDARD
TZOFFSETFROM:+0000
TZOFFSETTO:+0000
TZNAME:UTC
DTSTART:20250101T000000
END:STANDARD
END:VTIMEZONE
BEGIN:VEVENT
DTSTART;TZID=UTC:20260403T210000
DTEND;TZID=UTC:20260403T210000
DTSTAMP:20260425T152737
CREATED:20230530T152831Z
LAST-MODIFIED:20260325T184130Z
UID:18906-1775250000-1775250000@indigoskycasino.com
SUMMARY:Mayday by Midnight — in ECHO
DESCRIPTION:From track suits to undeniable grooves\, they are the most interesting party band in the world!
URL:https://indigoskycasino.com/event/mayday-by-midnight/
LOCATION:Indigo Sky Casino\, 70220 East HWY 60\, Wyandotte\, OK\, 74370\, United States
CATEGORIES:Live Entertainment
END:VEVENT
BEGIN:VEVENT
DTSTART;TZID=UTC:20260404T210000
DTEND;TZID=UTC:20260404T210000
DTSTAMP:20260425T152737
CREATED:20230214T154542Z
LAST-MODIFIED:20260325T184219Z
UID:18619-1775336400-1775336400@indigoskycasino.com
SUMMARY:Damsel — in ECHO
DESCRIPTION:A high energy band from Springfield ready to bring powerhouse vocals and big harmonies to your favorite 70s and 80s rock tracks!
URL:https://indigoskycasino.com/event/damsel/
LOCATION:Indigo Sky Casino\, 70220 East HWY 60\, Wyandotte\, OK\, 74370\, United States
CATEGORIES:Live Entertainment
END:VEVENT
BEGIN:VEVENT
DTSTART;TZID=UTC:20260410T210000
DTEND;TZID=UTC:20260410T210000
DTSTAMP:20260425T152737
CREATED:20230330T170733Z
LAST-MODIFIED:20260325T184507Z
UID:18800-1775854800-1775854800@indigoskycasino.com
SUMMARY:Johnny Dale Roberts Band — in ECHO
DESCRIPTION:Honky ton\, rock n roll\, rhythm and blues\, Johnny Dale Roberts Band does it all!
URL:https://indigoskycasino.com/event/johnny-dale-roberts/
LOCATION:Indigo Sky Casino\, 70220 East HWY 60\, Wyandotte\, OK\, 74370\, United States
CATEGORIES:Live Entertainment
END:VEVENT
BEGIN:VEVENT
DTSTART;TZID=UTC:20260411T210000
DTEND;TZID=UTC:20260411T210000
DTSTAMP:20260425T152737
CREATED:20251027T180332Z
LAST-MODIFIED:20260325T184744Z
UID:19787-1775941200-1775941200@indigoskycasino.com
SUMMARY:Josh Holland Band — in ECHO
DESCRIPTION:Josh Holland writes music about his life\, his struggles\, and his beliefs\, all while putting his own unique spin on some iconic songs!
URL:https://indigoskycasino.com/event/josh-holland-band/
LOCATION:Indigo Sky Casino\, 70220 East HWY 60\, Wyandotte\, OK\, 74370\, United States
CATEGORIES:Live Entertainment
END:VEVENT
BEGIN:VEVENT
DTSTART;TZID=UTC:20260416T210000
DTEND;TZID=UTC:20260416T210000
DTSTAMP:20260425T152737
CREATED:20250929T205035Z
LAST-MODIFIED:20260325T184849Z
UID:19761-1776373200-1776373200@indigoskycasino.com
SUMMARY:Kevin Currie Duo — in Rock & Brews
DESCRIPTION:With amazing vocals set to modern and contemporary favorites\, as well as a few throwbacks\, you’ll be tapping your feet and dancing along in no time.
URL:https://indigoskycasino.com/event/kevin-currie-duo-in-rock-brews/
LOCATION:Indigo Sky Casino\, 70220 East HWY 60\, Wyandotte\, OK\, 74370\, United States
CATEGORIES:Live Entertainment
END:VEVENT
BEGIN:VEVENT
DTSTART;TZID=UTC:20260417T210000
DTEND;TZID=UTC:20260417T210000
DTSTAMP:20260425T152737
CREATED:20230330T171807Z
LAST-MODIFIED:20260325T185217Z
UID:18802-1776459600-1776459600@indigoskycasino.com
SUMMARY:Swade Diablos — in ECHO
DESCRIPTION:The Sweet Diablos are filling Echo with some rockabilly tunes this Friday. They’re as talented as they are fun!
URL:https://indigoskycasino.com/event/swade-diablos/
LOCATION:Indigo Sky Casino\, 70220 East HWY 60\, Wyandotte\, OK\, 74370\, United States
CATEGORIES:Live Entertainment
END:VEVENT
BEGIN:VEVENT
DTSTART;TZID=UTC:20260418T210000
DTEND;TZID=UTC:20260418T210000
DTSTAMP:20260425T152737
CREATED:20230214T154652Z
LAST-MODIFIED:20260325T190030Z
UID:18611-1776546000-1776546000@indigoskycasino.com
SUMMARY:Uncrowned Kings — in ECHO
DESCRIPTION:High energy polished pop\, rock and dance selections to get you on the dance floor!
URL:https://indigoskycasino.com/event/uncrowned-kings/
LOCATION:Indigo Sky Casino\, 70220 East HWY 60\, Wyandotte\, OK\, 74370\, United States
CATEGORIES:Live Entertainment
END:VEVENT
BEGIN:VEVENT
DTSTART;TZID=UTC:20260423T210000
DTEND;TZID=UTC:20260423T210000
DTSTAMP:20260425T152737
CREATED:20230530T150639Z
LAST-MODIFIED:20260325T190146Z
UID:18900-1776978000-1776978000@indigoskycasino.com
SUMMARY:A & E Music — in Rock & Brews
DESCRIPTION:From upbeat tracks that are sure to get you moving to rhythm and melodies that will make your heart sing\, musical duo A & E Music are playing an all-inclusive\, diverse range of genres for any and all to get lost in.
URL:https://indigoskycasino.com/event/a-e-music/
LOCATION:Indigo Sky Casino\, 70220 East HWY 60\, Wyandotte\, OK\, 74370\, United States
CATEGORIES:Live Entertainment
END:VEVENT
BEGIN:VEVENT
DTSTART;TZID=UTC:20260424T210000
DTEND;TZID=UTC:20260424T210000
DTSTAMP:20260425T152737
CREATED:20220919T203137Z
LAST-MODIFIED:20260325T190214Z
UID:18144-1777064400-1777064400@indigoskycasino.com
SUMMARY:Derryl Perry — in ECHO
DESCRIPTION:Derryl and his band are known to lay these honky tonk songs down with evangelistic energy\, and have performed all over the country for over 20 years.
URL:https://indigoskycasino.com/event/derryl-perry/
LOCATION:Indigo Sky Casino\, 70220 East HWY 60\, Wyandotte\, OK\, 74370\, United States
CATEGORIES:Live Entertainment
END:VEVENT
BEGIN:VEVENT
DTSTART;TZID=UTC:20260425T210000
DTEND;TZID=UTC:20260425T210000
DTSTAMP:20260425T152737
CREATED:20260325T190407Z
LAST-MODIFIED:20260325T190943Z
UID:19946-1777150800-1777150800@indigoskycasino.com
SUMMARY:The Vybes — in ECHO
DESCRIPTION:Good times. Good music. Good Vybes.
URL:https://indigoskycasino.com/event/the-vybes/
LOCATION:Indigo Sky Casino\, 70220 East HWY 60\, Wyandotte\, OK\, 74370\, United States
CATEGORIES:Live Entertainment
END:VEVENT
BEGIN:VEVENT
DTSTART;TZID=UTC:20260430T210000
DTEND;TZID=UTC:20260430T210000
DTSTAMP:20260425T152737
CREATED:20220919T203925Z
LAST-MODIFIED:20260424T182025Z
UID:18147-1777582800-1777582800@indigoskycasino.com
SUMMARY:Chris Hyde — in Rock & Brews
DESCRIPTION:With over 20 years of experience in music performance\, Chris Hyde has a varied musical skillset. Whether you enjoy solo acoustic pop tunes or jazz you won’t want to miss this show!
URL:https://indigoskycasino.com/event/chris-hyde/
LOCATION:Indigo Sky Casino\, 70220 East HWY 60\, Wyandotte\, OK\, 74370\, United States
CATEGORIES:Live Entertainment
END:VEVENT
BEGIN:VEVENT
DTSTART;TZID=UTC:20260501T210000
DTEND;TZID=UTC:20260501T210000
DTSTAMP:20260425T152737
CREATED:20250527T203427Z
LAST-MODIFIED:20260424T180627Z
UID:19613-1777669200-1777669200@indigoskycasino.com
SUMMARY:The BakBeatz — in ECHO
DESCRIPTION:Bringing their energy\, funk\, soul\, and jazzy sounds to everything from the 60s on\, this band will take your ears on a sonic journey!
URL:https://indigoskycasino.com/event/the-bakbeatz-2/
LOCATION:Indigo Sky Casino\, 70220 East HWY 60\, Wyandotte\, OK\, 74370\, United States
CATEGORIES:Live Entertainment
END:VEVENT
BEGIN:VEVENT
DTSTART;TZID=UTC:20260502T210000
DTEND;TZID=UTC:20260502T210000
DTSTAMP:20260425T152737
CREATED:20260424T180755Z
LAST-MODIFIED:20260424T180755Z
UID:19960-1777755600-1777755600@indigoskycasino.com
SUMMARY:Calvin Loron — in ECHO
DESCRIPTION:
URL:https://indigoskycasino.com/event/calvin-loron-in-echo/
LOCATION:Indigo Sky Casino\, 70220 East HWY 60\, Wyandotte\, OK\, 74370\, United States
CATEGORIES:Live Entertainment
END:VEVENT
BEGIN:VEVENT
DTSTART;TZID=UTC:20260507T210000
DTEND;TZID=UTC:20260507T210000
DTSTAMP:20260425T152737
CREATED:20220603T200043Z
LAST-MODIFIED:20260424T180826Z
UID:18137-1778187600-1778187600@indigoskycasino.com
SUMMARY:Brett & Terri — in Rock & Brews
DESCRIPTION:Acoustic duo that plays music for all ages! From traditional country\, to pop\, rock\, funk and blues\, it’s all live!
URL:https://indigoskycasino.com/event/brett-terri/
LOCATION:Indigo Sky Casino\, 70220 East HWY 60\, Wyandotte\, OK\, 74370\, United States
CATEGORIES:Live Entertainment
END:VEVENT
BEGIN:VEVENT
DTSTART;TZID=UTC:20260508T210000
DTEND;TZID=UTC:20260508T210000
DTSTAMP:20260425T152737
CREATED:20230330T162213Z
LAST-MODIFIED:20260424T180919Z
UID:18790-1778274000-1778274000@indigoskycasino.com
SUMMARY:Funkin' Gonuts — in ECHO
DESCRIPTION:Acoustic Funk duo\, Jason and Daniel\, better known as Funkin’ Gonuts. are a lively coupling sure to both entertain and impress.
URL:https://indigoskycasino.com/event/funkin-gonuts/
LOCATION:Indigo Sky Casino\, 70220 East HWY 60\, Wyandotte\, OK\, 74370\, United States
CATEGORIES:Live Entertainment
END:VEVENT
BEGIN:VEVENT
DTSTART;TZID=UTC:20260509T210000
DTEND;TZID=UTC:20260509T210000
DTSTAMP:20260425T152737
CREATED:20220919T201049Z
LAST-MODIFIED:20260424T181015Z
UID:18135-1778360400-1778360400@indigoskycasino.com
SUMMARY:Thomas Martinez — in ECHO
DESCRIPTION:Self-made Oklahoma native Thomas Martinez\, described as a “rocker in a country boy’s body” takes to the stage.
URL:https://indigoskycasino.com/event/thomas-martinez/
LOCATION:Indigo Sky Casino\, 70220 East HWY 60\, Wyandotte\, OK\, 74370\, United States
CATEGORIES:Live Entertainment
END:VEVENT
BEGIN:VEVENT
DTSTART;TZID=UTC:20260514T210000
DTEND;TZID=UTC:20260514T210000
DTSTAMP:20260425T152737
CREATED:20220809T210845Z
LAST-MODIFIED:20260424T181057Z
UID:17218-1778792400-1778792400@indigoskycasino.com
SUMMARY:Jon Dooly — in Rock & Brews
DESCRIPTION:A one-man acoustic band rocking everything from 90s alternative to country and everything in-between.
URL:https://indigoskycasino.com/event/jon-dooly/
LOCATION:Indigo Sky Casino\, 70220 East HWY 60\, Wyandotte\, OK\, 74370\, United States
CATEGORIES:Live Entertainment
END:VEVENT
BEGIN:VEVENT
DTSTART;TZID=UTC:20260515T210000
DTEND;TZID=UTC:20260515T210000
DTSTAMP:20260425T152737
CREATED:20221020T194156Z
LAST-MODIFIED:20260424T181130Z
UID:18299-1778878800-1778878800@indigoskycasino.com
SUMMARY:Encore — in ECHO
DESCRIPTION:Encore’s coming back with the full band to Indigo Sky Casino for an evening of rocking music and huge harmonies. Bring your friends and let’s have a great time
URL:https://indigoskycasino.com/event/encore/
LOCATION:Indigo Sky Casino\, 70220 East HWY 60\, Wyandotte\, OK\, 74370\, United States
CATEGORIES:Live Entertainment
END:VEVENT
BEGIN:VEVENT
DTSTART;TZID=UTC:20260516T210000
DTEND;TZID=UTC:20260516T210000
DTSTAMP:20260425T152737
CREATED:20221020T204247Z
LAST-MODIFIED:20260424T181153Z
UID:18336-1778965200-1778965200@indigoskycasino.com
SUMMARY:MoArk Mojo — in ECHO
DESCRIPTION:With big covers and big excitement\, Mojo always knows how to get the crowd rocking on the dance floor.
URL:https://indigoskycasino.com/event/moark-mojo/
LOCATION:Indigo Sky Casino\, 70220 East HWY 60\, Wyandotte\, OK\, 74370\, United States
CATEGORIES:Live Entertainment
END:VEVENT
BEGIN:VEVENT
DTSTART;TZID=UTC:20260521T210000
DTEND;TZID=UTC:20260521T210000
DTSTAMP:20260425T152737
CREATED:20230214T154621Z
LAST-MODIFIED:20260424T181404Z
UID:18615-1779397200-1779397200@indigoskycasino.com
SUMMARY:Michele Warren — in Rock & Brews
DESCRIPTION:With a smoky and distinctive voice\, this Tulsa favorite belts out a huge variety of your favorite covers with classic acoustic guitarwork!
URL:https://indigoskycasino.com/event/michele-warren/
LOCATION:Indigo Sky Casino\, 70220 East HWY 60\, Wyandotte\, OK\, 74370\, United States
CATEGORIES:Live Entertainment
END:VEVENT
BEGIN:VEVENT
DTSTART;TZID=UTC:20260522T210000
DTEND;TZID=UTC:20260523T210000
DTSTAMP:20260425T152737
CREATED:20230213T211143Z
LAST-MODIFIED:20260424T181335Z
UID:18602-1779483600-1779570000@indigoskycasino.com
SUMMARY:Dino D and the D Train Band — in ECHO
DESCRIPTION:Born in Memphis\, Tennessee Dino D performs original R&B and soul for two nights in a row!
URL:https://indigoskycasino.com/event/dino-d-and-d-train/
LOCATION:Indigo Sky Casino\, 70220 East HWY 60\, Wyandotte\, OK\, 74370\, United States
CATEGORIES:Live Entertainment
END:VEVENT
BEGIN:VEVENT
DTSTART;TZID=UTC:20260528T210000
DTEND;TZID=UTC:20260528T210000
DTSTAMP:20260425T152737
CREATED:20230228T210401Z
LAST-MODIFIED:20260424T181443Z
UID:18701-1780002000-1780002000@indigoskycasino.com
SUMMARY:TJ Scarlett — in Rock & Brews
DESCRIPTION:This virtuoso guitarist will take you on an acoustic musical journey across every genre you can throw at him!
URL:https://indigoskycasino.com/event/tj-scarlett/
LOCATION:Indigo Sky Casino\, 70220 East HWY 60\, Wyandotte\, OK\, 74370\, United States
CATEGORIES:Live Entertainment
END:VEVENT
BEGIN:VEVENT
DTSTART;TZID=UTC:20260529T210000
DTEND;TZID=UTC:20260529T210000
DTSTAMP:20260425T152737
CREATED:20230111T210855Z
LAST-MODIFIED:20260424T181753Z
UID:18487-1780088400-1780088400@indigoskycasino.com
SUMMARY:Chris Hyde Band — in ECHO
DESCRIPTION:With over 20 years of experience in music performance\, Chris Hyde has a varied musical skillset. Whether you enjoy solo acoustic pop tunes or jazz you won’t want to miss this show!
URL:https://indigoskycasino.com/event/chris-hyde-solo/
LOCATION:Indigo Sky Casino\, 70220 East HWY 60\, Wyandotte\, OK\, 74370\, United States
CATEGORIES:Live Entertainment
END:VEVENT
BEGIN:VEVENT
DTSTART;TZID=UTC:20260530T210000
DTEND;TZID=UTC:20260530T210000
DTSTAMP:20260425T152737
CREATED:20251230T170531Z
LAST-MODIFIED:20260424T181614Z
UID:19881-1780174800-1780174800@indigoskycasino.com
SUMMARY:Nathan LaBee — in ECHO
DESCRIPTION:At only 14\, Nathan began playing guitar and learning everything he could\, by watching as many instructional videos as possible. Influenced by artists such as Angel Vivaldi\, Joe Satriani\, Jeff Loomis\, Eric Johnson\, Al Di Meola and others\, his music takes on a wide range of genres.
URL:https://indigoskycasino.com/event/nathan-labee-in-echo/
LOCATION:Indigo Sky Casino\, 70220 East HWY 60\, Wyandotte\, OK\, 74370\, United States
CATEGORIES:Live Entertainment
END:VEVENT
END:VCALENDAR